BEGIN:VCALENDAR
VERSION:2.0
PRODID:-//Otsego District Public Library - ECPv6.15.20//NONSGML v1.0//EN
CALSCALE:GREGORIAN
METHOD:PUBLISH
X-ORIGINAL-URL:https://otsegolibrary.org
X-WR-CALDESC:Events for Otsego District Public Library
REFRESH-INTERVAL;VALUE=DURATION:PT1H
X-Robots-Tag:noindex
X-PUBLISHED-TTL:PT1H
BEGIN:VTIMEZONE
TZID:America/Detroit
BEGIN:DAYLIGHT
TZOFFSETFROM:-0500
TZOFFSETTO:-0400
TZNAME:EDT
DTSTART:20240310T070000
END:DAYLIGHT
BEGIN:STANDARD
TZOFFSETFROM:-0400
TZOFFSETTO:-0500
TZNAME:EST
DTSTART:20241103T060000
END:STANDARD
BEGIN:DAYLIGHT
TZOFFSETFROM:-0500
TZOFFSETTO:-0400
TZNAME:EDT
DTSTART:20250309T070000
END:DAYLIGHT
BEGIN:STANDARD
TZOFFSETFROM:-0400
TZOFFSETTO:-0500
TZNAME:EST
DTSTART:20251102T060000
END:STANDARD
BEGIN:DAYLIGHT
TZOFFSETFROM:-0500
TZOFFSETTO:-0400
TZNAME:EDT
DTSTART:20260308T070000
END:DAYLIGHT
BEGIN:STANDARD
TZOFFSETFROM:-0400
TZOFFSETTO:-0500
TZNAME:EST
DTSTART:20261101T060000
END:STANDARD
END:VTIMEZONE
BEGIN:VEVENT
DTSTART;VALUE=DATE:20250101
DTEND;VALUE=DATE:20250401
DTSTAMP:20260422T031749
CREATED:20241226T152738Z
LAST-MODIFIED:20241226T152738Z
UID:10580-1735689600-1743465599@otsegolibrary.org
SUMMARY:Read & Dine - Adult Winter Reading Club
DESCRIPTION:January 1 – March 31 \nSign up to be part of the Read & Dine: Adult Winter Reading Club!\nRead ten books to earn an entry for a drawing to win a Kindle Fire or a $25 gift card to a local restaurant. Reading logs will be available at the circulation desk or at our drive-thru pickup window. \nParticipants who finish reading 10 books will receive a cookbook (while supplies last). \nThank you to the Friends of the Library (Kindle Fire and cookbooks) and local restaurants for sponsoring this program!
URL:https://otsegolibrary.org/event/read-dine-adult-winter-reading-club-2/
CATEGORIES:Adult
END:VEVENT
BEGIN:VEVENT
DTSTART;VALUE=DATE:20250101
DTEND;VALUE=DATE:20250412
DTSTAMP:20260422T031749
CREATED:20241226T182326Z
LAST-MODIFIED:20241226T183210Z
UID:10592-1735689600-1744415999@otsegolibrary.org
SUMMARY:PaperGator Recycling Challenge
DESCRIPTION:Celebrate Earth Day by recycling! \n\n\nJanuary – April 11 \nThe library has the opportunity to earn exciting rewards by increasing our paper recycling volume. Plus the library will earn double the usual payouts during the contest period. \nThe library could win $5\,000 (1st Prize)\, $2\,000 (2nd Prize)\, $1\,000 (3rd Prize)\, or double earnings for the entire year of 2025 (beyond the contest period). Winners will be selected based on the largest percentage increase in paper recycling. The winners will be announced on Earth Day 2025. \nThe PaperGator is located behind the library past the staff parking area. All paper products including old damaged books can be recycled (no cardboard or plastics accepted).
URL:https://otsegolibrary.org/event/papergator-recycling-challenge/
END:VEVENT
BEGIN:VEVENT
DTSTART;TZID=America/Detroit:20250310T140000
DTEND;TZID=America/Detroit:20250310T140000
DTSTAMP:20260422T031749
CREATED:20241226T185923Z
LAST-MODIFIED:20241226T190136Z
UID:10607-1741615200-1741615200@otsegolibrary.org
SUMMARY:2nd Monday Book Club
DESCRIPTION:Meets on the 2nd Monday at 2 PM \nJanuary 13 \nEggsecutive Orders by Julie Hyzy \nFebruary 10 \nWards of Faerie by Terry Brooks \nMarch 10 \nSanibel Flats by Randy Wayne White \nApril 14 \nOne True Loves by Taylor Jenkins Reid \nMay 12 \nThe Dollhouse by Fiona Davis \nJune 9 \nThis Tender Land by William Kent Krueger \nJuly 14 \nSouth of Superior by Ellen Airgood \nAugust 11 \nThe Hate You Give by Angie Thomas
URL:https://otsegolibrary.org/event/2nd-monday-book-club-42/
CATEGORIES:Book Club
END:VEVENT
END:VCALENDAR