BEGIN:VCALENDAR
VERSION:2.0
PRODID:-//Otsego District Public Library - ECPv6.15.20//NONSGML v1.0//EN
CALSCALE:GREGORIAN
METHOD:PUBLISH
X-ORIGINAL-URL:https://otsegolibrary.org
X-WR-CALDESC:Events for Otsego District Public Library
REFRESH-INTERVAL;VALUE=DURATION:PT1H
X-Robots-Tag:noindex
X-PUBLISHED-TTL:PT1H
BEGIN:VTIMEZONE
TZID:America/Detroit
BEGIN:DAYLIGHT
TZOFFSETFROM:-0500
TZOFFSETTO:-0400
TZNAME:EDT
DTSTART:20240310T070000
END:DAYLIGHT
BEGIN:STANDARD
TZOFFSETFROM:-0400
TZOFFSETTO:-0500
TZNAME:EST
DTSTART:20241103T060000
END:STANDARD
BEGIN:DAYLIGHT
TZOFFSETFROM:-0500
TZOFFSETTO:-0400
TZNAME:EDT
DTSTART:20250309T070000
END:DAYLIGHT
BEGIN:STANDARD
TZOFFSETFROM:-0400
TZOFFSETTO:-0500
TZNAME:EST
DTSTART:20251102T060000
END:STANDARD
BEGIN:DAYLIGHT
TZOFFSETFROM:-0500
TZOFFSETTO:-0400
TZNAME:EDT
DTSTART:20260308T070000
END:DAYLIGHT
BEGIN:STANDARD
TZOFFSETFROM:-0400
TZOFFSETTO:-0500
TZNAME:EST
DTSTART:20261101T060000
END:STANDARD
END:VTIMEZONE
BEGIN:VEVENT
DTSTART;VALUE=DATE:20250101
DTEND;VALUE=DATE:20250401
DTSTAMP:20260422T050108
CREATED:20241226T152738Z
LAST-MODIFIED:20241226T152738Z
UID:10580-1735689600-1743465599@otsegolibrary.org
SUMMARY:Read & Dine - Adult Winter Reading Club
DESCRIPTION:January 1 – March 31 \nSign up to be part of the Read & Dine: Adult Winter Reading Club!\nRead ten books to earn an entry for a drawing to win a Kindle Fire or a $25 gift card to a local restaurant. Reading logs will be available at the circulation desk or at our drive-thru pickup window. \nParticipants who finish reading 10 books will receive a cookbook (while supplies last). \nThank you to the Friends of the Library (Kindle Fire and cookbooks) and local restaurants for sponsoring this program!
URL:https://otsegolibrary.org/event/read-dine-adult-winter-reading-club-2/
CATEGORIES:Adult
END:VEVENT
BEGIN:VEVENT
DTSTART;VALUE=DATE:20250101
DTEND;VALUE=DATE:20250412
DTSTAMP:20260422T050108
CREATED:20241226T182326Z
LAST-MODIFIED:20241226T183210Z
UID:10592-1735689600-1744415999@otsegolibrary.org
SUMMARY:PaperGator Recycling Challenge
DESCRIPTION:Celebrate Earth Day by recycling! \n\n\nJanuary – April 11 \nThe library has the opportunity to earn exciting rewards by increasing our paper recycling volume. Plus the library will earn double the usual payouts during the contest period. \nThe library could win $5\,000 (1st Prize)\, $2\,000 (2nd Prize)\, $1\,000 (3rd Prize)\, or double earnings for the entire year of 2025 (beyond the contest period). Winners will be selected based on the largest percentage increase in paper recycling. The winners will be announced on Earth Day 2025. \nThe PaperGator is located behind the library past the staff parking area. All paper products including old damaged books can be recycled (no cardboard or plastics accepted).
URL:https://otsegolibrary.org/event/papergator-recycling-challenge/
END:VEVENT
BEGIN:VEVENT
DTSTART;TZID=America/Detroit:20250213T100000
DTEND;TZID=America/Detroit:20250213T100000
DTSTAMP:20260422T050108
CREATED:20241227T161920Z
LAST-MODIFIED:20250213T141103Z
UID:10726-1739440800-1739440800@otsegolibrary.org
SUMMARY:Storytime
DESCRIPTION:Thursdays at 10 AM\nFebruary 6 – May 1 (No meet up on April 10)\nAges 0 – 5 \nEach session focuses on a fun theme including stories\, songs\, and a craft.
URL:https://otsegolibrary.org/event/storytime-73/
CATEGORIES:Preschool
END:VEVENT
BEGIN:VEVENT
DTSTART;TZID=America/Detroit:20250213T160000
DTEND;TZID=America/Detroit:20250213T160000
DTSTAMP:20260422T050108
CREATED:20241226T200453Z
LAST-MODIFIED:20250213T141040Z
UID:10654-1739462400-1739462400@otsegolibrary.org
SUMMARY:Creative Writing Club
DESCRIPTION:2nd Thursday at 4 PM\nFebruary 13\, March 13 and April 10\n\nDo you LOVE to write? Join us as we write together and share short stories\, original writing pieces\, and ideas. All writing styles are welcome.
URL:https://otsegolibrary.org/event/creative-writing-club-14/
CATEGORIES:Teen/Tween
END:VEVENT
BEGIN:VEVENT
DTSTART;TZID=America/Detroit:20250213T183000
DTEND;TZID=America/Detroit:20250213T183000
DTSTAMP:20260422T050108
CREATED:20250213T141222Z
LAST-MODIFIED:20250213T141308Z
UID:11118-1739471400-1739471400@otsegolibrary.org
SUMMARY:Singing the Good Old Songs Again
DESCRIPTION:Jackie Davidson and Gary Brandt\n\n\n\nClassic and original songs and stories are featured from the Folk Era of the 1960’s into the 70’s. This show is loaded with lively audience interaction\, participation\, sing-along\, and comedy. Jackie was an original member of the Grammy award winning New Christy Minstrels\, and Gary is a folk performer and published songwriter. You will find this to be an entertaining\, educational\, humorous\, fun\, and memorable experience!
URL:https://otsegolibrary.org/event/singing-the-good-old-songs-again-2/
CATEGORIES:Adult
END:VEVENT
END:VCALENDAR