BEGIN:VCALENDAR
VERSION:2.0
PRODID:-//Otsego District Public Library - ECPv6.15.20//NONSGML v1.0//EN
CALSCALE:GREGORIAN
METHOD:PUBLISH
X-ORIGINAL-URL:https://otsegolibrary.org
X-WR-CALDESC:Events for Otsego District Public Library
REFRESH-INTERVAL;VALUE=DURATION:PT1H
X-Robots-Tag:noindex
X-PUBLISHED-TTL:PT1H
BEGIN:VTIMEZONE
TZID:America/Detroit
BEGIN:DAYLIGHT
TZOFFSETFROM:-0500
TZOFFSETTO:-0400
TZNAME:EDT
DTSTART:20230312T070000
END:DAYLIGHT
BEGIN:STANDARD
TZOFFSETFROM:-0400
TZOFFSETTO:-0500
TZNAME:EST
DTSTART:20231105T060000
END:STANDARD
BEGIN:DAYLIGHT
TZOFFSETFROM:-0500
TZOFFSETTO:-0400
TZNAME:EDT
DTSTART:20240310T070000
END:DAYLIGHT
BEGIN:STANDARD
TZOFFSETFROM:-0400
TZOFFSETTO:-0500
TZNAME:EST
DTSTART:20241103T060000
END:STANDARD
BEGIN:DAYLIGHT
TZOFFSETFROM:-0500
TZOFFSETTO:-0400
TZNAME:EDT
DTSTART:20250309T070000
END:DAYLIGHT
BEGIN:STANDARD
TZOFFSETFROM:-0400
TZOFFSETTO:-0500
TZNAME:EST
DTSTART:20251102T060000
END:STANDARD
END:VTIMEZONE
BEGIN:VEVENT
DTSTART;VALUE=DATE:20241123
DTEND;VALUE=DATE:20241128
DTSTAMP:20260423T060700
CREATED:20240705T201432Z
LAST-MODIFIED:20240705T201432Z
UID:9975-1732320000-1732751999@otsegolibrary.org
SUMMARY:Dinovember Scavenger Hunt
DESCRIPTION:During Open Library Hours \nFind all of the dinosaurs hiding around the library and you will win a dinotastic prize!
URL:https://otsegolibrary.org/event/dinovember-scavenger-hunt/
CATEGORIES:Children,Preschool
END:VEVENT
BEGIN:VEVENT
DTSTART;TZID=America/Detroit:20241123T100000
DTEND;TZID=America/Detroit:20241123T120000
DTSTAMP:20260423T060700
CREATED:20240705T201221Z
LAST-MODIFIED:20240705T201221Z
UID:9973-1732356000-1732363200@otsegolibrary.org
SUMMARY:Dino Dance Party
DESCRIPTION:Preschool – 5th Grade \nGet ready to party\, because everyone knows dinosaurs love to dance! A fun and active dinosaur-themed dance party will have dinosaur crafts\, activities\, snacks\, and of course\, dino dancing!
URL:https://otsegolibrary.org/event/dino-dance-party/
CATEGORIES:Children,Preschool
END:VEVENT
END:VCALENDAR