BEGIN:VCALENDAR
VERSION:2.0
PRODID:-//Otsego District Public Library - ECPv6.15.20//NONSGML v1.0//EN
CALSCALE:GREGORIAN
METHOD:PUBLISH
X-ORIGINAL-URL:https://otsegolibrary.org
X-WR-CALDESC:Events for Otsego District Public Library
REFRESH-INTERVAL;VALUE=DURATION:PT1H
X-Robots-Tag:noindex
X-PUBLISHED-TTL:PT1H
BEGIN:VTIMEZONE
TZID:America/Detroit
BEGIN:DAYLIGHT
TZOFFSETFROM:-0500
TZOFFSETTO:-0400
TZNAME:EDT
DTSTART:20230312T070000
END:DAYLIGHT
BEGIN:STANDARD
TZOFFSETFROM:-0400
TZOFFSETTO:-0500
TZNAME:EST
DTSTART:20231105T060000
END:STANDARD
BEGIN:DAYLIGHT
TZOFFSETFROM:-0500
TZOFFSETTO:-0400
TZNAME:EDT
DTSTART:20240310T070000
END:DAYLIGHT
BEGIN:STANDARD
TZOFFSETFROM:-0400
TZOFFSETTO:-0500
TZNAME:EST
DTSTART:20241103T060000
END:STANDARD
BEGIN:DAYLIGHT
TZOFFSETFROM:-0500
TZOFFSETTO:-0400
TZNAME:EDT
DTSTART:20250309T070000
END:DAYLIGHT
BEGIN:STANDARD
TZOFFSETFROM:-0400
TZOFFSETTO:-0500
TZNAME:EST
DTSTART:20251102T060000
END:STANDARD
END:VTIMEZONE
BEGIN:VEVENT
DTSTART;TZID=America/Detroit:20241024T100000
DTEND;TZID=America/Detroit:20241024T100000
DTSTAMP:20260419T083709
CREATED:20240705T200059Z
LAST-MODIFIED:20240705T200059Z
UID:9941-1729764000-1729764000@otsegolibrary.org
SUMMARY:Storytime
DESCRIPTION:Thursdays at 10 AM\nSeptember 12 – November 21 \nAges 0 – 5\nStories\, songs\, and a craft all focusing on a new weekly theme.
URL:https://otsegolibrary.org/event/storytime-68/
CATEGORIES:Preschool
END:VEVENT
BEGIN:VEVENT
DTSTART;TZID=America/Detroit:20241024T160000
DTEND;TZID=America/Detroit:20241024T160000
DTSTAMP:20260419T083709
CREATED:20240702T163132Z
LAST-MODIFIED:20240702T163132Z
UID:9865-1729785600-1729785600@otsegolibrary.org
SUMMARY:Sweet & Salty Book Club
DESCRIPTION:Let’s get together and discuss what we are reading over snacks! Not everyone likes to read the same books\, so we let you choose the book you want to read and share. \nNeed a few new book suggestions? Ask a staff member about new and popular book titles in the juvenile and young adult sections!
URL:https://otsegolibrary.org/event/sweet-salty-book-club-19/
CATEGORIES:Teen/Tween
END:VEVENT
END:VCALENDAR