BEGIN:VCALENDAR
VERSION:2.0
PRODID:-//Otsego District Public Library - ECPv6.15.20//NONSGML v1.0//EN
CALSCALE:GREGORIAN
METHOD:PUBLISH
X-WR-CALNAME:Otsego District Public Library
X-ORIGINAL-URL:https://otsegolibrary.org
X-WR-CALDESC:Events for Otsego District Public Library
REFRESH-INTERVAL;VALUE=DURATION:PT1H
X-Robots-Tag:noindex
X-PUBLISHED-TTL:PT1H
BEGIN:VTIMEZONE
TZID:America/Detroit
BEGIN:DAYLIGHT
TZOFFSETFROM:-0500
TZOFFSETTO:-0400
TZNAME:EDT
DTSTART:20230312T070000
END:DAYLIGHT
BEGIN:STANDARD
TZOFFSETFROM:-0400
TZOFFSETTO:-0500
TZNAME:EST
DTSTART:20231105T060000
END:STANDARD
BEGIN:DAYLIGHT
TZOFFSETFROM:-0500
TZOFFSETTO:-0400
TZNAME:EDT
DTSTART:20240310T070000
END:DAYLIGHT
BEGIN:STANDARD
TZOFFSETFROM:-0400
TZOFFSETTO:-0500
TZNAME:EST
DTSTART:20241103T060000
END:STANDARD
BEGIN:DAYLIGHT
TZOFFSETFROM:-0500
TZOFFSETTO:-0400
TZNAME:EDT
DTSTART:20250309T070000
END:DAYLIGHT
BEGIN:STANDARD
TZOFFSETFROM:-0400
TZOFFSETTO:-0500
TZNAME:EST
DTSTART:20251102T060000
END:STANDARD
END:VTIMEZONE
BEGIN:VEVENT
DTSTART;TZID=America/Detroit:20241018T100000
DTEND;TZID=America/Detroit:20241018T100000
DTSTAMP:20260421T114758
CREATED:20240702T155548Z
LAST-MODIFIED:20240702T155548Z
UID:9839-1729245600-1729245600@otsegolibrary.org
SUMMARY:Coffee and Conversations
DESCRIPTION:Join your community friends for some coffee\, tea\, and yummy treats while having lively discussions.
URL:https://otsegolibrary.org/event/coffee-and-conversations-10/
CATEGORIES:Adult
END:VEVENT
BEGIN:VEVENT
DTSTART;TZID=America/Detroit:20241018T130000
DTEND;TZID=America/Detroit:20241018T130000
DTSTAMP:20260421T114758
CREATED:20240702T152818Z
LAST-MODIFIED:20240930T173956Z
UID:9825-1729256400-1729256400@otsegolibrary.org
SUMMARY:Get Crafty – Make & Take Crafts
DESCRIPTION:Create a fun craft for free! \nThis month you will be making a rustic wooden pumpkin that you can proudly take home to display. \n 
URL:https://otsegolibrary.org/event/get-crafty-make-take-crafts-9/
CATEGORIES:Adult
END:VEVENT
END:VCALENDAR