BEGIN:VCALENDAR
VERSION:2.0
PRODID:-//Otsego District Public Library - ECPv6.15.20//NONSGML v1.0//EN
CALSCALE:GREGORIAN
METHOD:PUBLISH
X-ORIGINAL-URL:https://otsegolibrary.org
X-WR-CALDESC:Events for Otsego District Public Library
REFRESH-INTERVAL;VALUE=DURATION:PT1H
X-Robots-Tag:noindex
X-PUBLISHED-TTL:PT1H
BEGIN:VTIMEZONE
TZID:America/Detroit
BEGIN:DAYLIGHT
TZOFFSETFROM:-0500
TZOFFSETTO:-0400
TZNAME:EDT
DTSTART:20230312T070000
END:DAYLIGHT
BEGIN:STANDARD
TZOFFSETFROM:-0400
TZOFFSETTO:-0500
TZNAME:EST
DTSTART:20231105T060000
END:STANDARD
BEGIN:DAYLIGHT
TZOFFSETFROM:-0500
TZOFFSETTO:-0400
TZNAME:EDT
DTSTART:20240310T070000
END:DAYLIGHT
BEGIN:STANDARD
TZOFFSETFROM:-0400
TZOFFSETTO:-0500
TZNAME:EST
DTSTART:20241103T060000
END:STANDARD
BEGIN:DAYLIGHT
TZOFFSETFROM:-0500
TZOFFSETTO:-0400
TZNAME:EDT
DTSTART:20250309T070000
END:DAYLIGHT
BEGIN:STANDARD
TZOFFSETFROM:-0400
TZOFFSETTO:-0500
TZNAME:EST
DTSTART:20251102T060000
END:STANDARD
END:VTIMEZONE
BEGIN:VEVENT
DTSTART;TZID=America/Detroit:20241009T100000
DTEND;TZID=America/Detroit:20241009T100000
DTSTAMP:20260422T040031
CREATED:20240702T165104Z
LAST-MODIFIED:20240702T165800Z
UID:9899-1728468000-1728468000@otsegolibrary.org
SUMMARY:Music and Movement
DESCRIPTION:Wednesdays at 10 AM\nSeptember 11 – November 20\nAges 0 – 5\nMovin’ and Groovin’ fun with songs\, stories\, interactive play\, and sensory activities.
URL:https://otsegolibrary.org/event/music-and-movement-22/
CATEGORIES:Preschool
END:VEVENT
BEGIN:VEVENT
DTSTART;TZID=America/Detroit:20241009T140000
DTEND;TZID=America/Detroit:20241009T140000
DTSTAMP:20260422T040031
CREATED:20240702T151903Z
LAST-MODIFIED:20241022T131600Z
UID:9819-1728482400-1728482400@otsegolibrary.org
SUMMARY:Cricut Maker 101 Classes
DESCRIPTION:Attend either class to learn about the library’s Cricut Maker\, Heat Press\, and the Design Space software. This beginner’s level class will feature permanent vinyl and heat transfer vinyl.
URL:https://otsegolibrary.org/event/cricut-maker-101-classes/
CATEGORIES:Adult
END:VEVENT
BEGIN:VEVENT
DTSTART;TZID=America/Detroit:20241009T180000
DTEND;TZID=America/Detroit:20241009T180000
DTSTAMP:20260422T040031
CREATED:20240822T163837Z
LAST-MODIFIED:20240822T163857Z
UID:10195-1728496800-1728496800@otsegolibrary.org
SUMMARY:Non-Fiction Book Club
DESCRIPTION:The Non-Fiction Book Club meets on the 2nd Wednesday of each month at 6 PM. \nSeptember 11\nA Walk in the Woods by Bill Bryson \nOctober 9\nGuardians of the Trees by Kinari Webb \nNovember 13\nThe Splendid and the Vile by Erik Larson \nDecember 11\nChoose Your Own Book \nJanuary 8\nKillers of the Flower Moon by David Grann
URL:https://otsegolibrary.org/event/non-fiction-book-club-33/
CATEGORIES:Book Club
END:VEVENT
END:VCALENDAR