BEGIN:VCALENDAR
VERSION:2.0
PRODID:-//Otsego District Public Library - ECPv6.15.20//NONSGML v1.0//EN
CALSCALE:GREGORIAN
METHOD:PUBLISH
X-WR-CALNAME:Otsego District Public Library
X-ORIGINAL-URL:https://otsegolibrary.org
X-WR-CALDESC:Events for Otsego District Public Library
REFRESH-INTERVAL;VALUE=DURATION:PT1H
X-Robots-Tag:noindex
X-PUBLISHED-TTL:PT1H
BEGIN:VTIMEZONE
TZID:America/Detroit
BEGIN:DAYLIGHT
TZOFFSETFROM:-0500
TZOFFSETTO:-0400
TZNAME:EDT
DTSTART:20230312T070000
END:DAYLIGHT
BEGIN:STANDARD
TZOFFSETFROM:-0400
TZOFFSETTO:-0500
TZNAME:EST
DTSTART:20231105T060000
END:STANDARD
BEGIN:DAYLIGHT
TZOFFSETFROM:-0500
TZOFFSETTO:-0400
TZNAME:EDT
DTSTART:20240310T070000
END:DAYLIGHT
BEGIN:STANDARD
TZOFFSETFROM:-0400
TZOFFSETTO:-0500
TZNAME:EST
DTSTART:20241103T060000
END:STANDARD
BEGIN:DAYLIGHT
TZOFFSETFROM:-0500
TZOFFSETTO:-0400
TZNAME:EDT
DTSTART:20250309T070000
END:DAYLIGHT
BEGIN:STANDARD
TZOFFSETFROM:-0400
TZOFFSETTO:-0500
TZNAME:EST
DTSTART:20251102T060000
END:STANDARD
END:VTIMEZONE
BEGIN:VEVENT
DTSTART;TZID=America/Detroit:20240919T100000
DTEND;TZID=America/Detroit:20240919T100000
DTSTAMP:20260422T233447
CREATED:20240705T195836Z
LAST-MODIFIED:20240705T195836Z
UID:9931-1726740000-1726740000@otsegolibrary.org
SUMMARY:Storytime
DESCRIPTION:Thursdays at 10 AM\nSeptember 12 – November 21 \nAges 0 – 5\nStories\, songs\, and a craft all focusing on a new weekly theme.
URL:https://otsegolibrary.org/event/storytime-63/
CATEGORIES:Preschool
END:VEVENT
BEGIN:VEVENT
DTSTART;TZID=America/Detroit:20240919T160000
DTEND;TZID=America/Detroit:20240919T160000
DTSTAMP:20260422T233447
CREATED:20240702T161359Z
LAST-MODIFIED:20240702T161359Z
UID:9855-1726761600-1726761600@otsegolibrary.org
SUMMARY:Art Hub
DESCRIPTION:Create beautiful and fun pieces of art at this art club! Join us for drawing\, painting\, crafting\, and more! These crafts are more advanced for teens and tweens.
URL:https://otsegolibrary.org/event/art-hub-14/
CATEGORIES:Teen/Tween
END:VEVENT
BEGIN:VEVENT
DTSTART;TZID=America/Detroit:20240919T183000
DTEND;TZID=America/Detroit:20240919T183000
DTSTAMP:20260422T233447
CREATED:20240702T142847Z
LAST-MODIFIED:20240702T142847Z
UID:9806-1726770600-1726770600@otsegolibrary.org
SUMMARY:Blades of the Civil War
DESCRIPTION:Presented by Jerry Berg\, Swordsmanship Museum \nJoin Swordsmanship Museum and Academy historian Jerry Berg as he leads us through the history of the use of swords\, bayonets\, cutlasses\, sabers\, pikes\, and more as they were used in the American Civil War. He will help uncover the hidden history of the actual military use of these weapons of war by utilizing artifacts and replicas from the museum’s collection.
URL:https://otsegolibrary.org/event/blades-of-the-civil-war/
CATEGORIES:Adult
END:VEVENT
END:VCALENDAR