BEGIN:VCALENDAR
VERSION:2.0
PRODID:-//Otsego District Public Library - ECPv6.15.20//NONSGML v1.0//EN
CALSCALE:GREGORIAN
METHOD:PUBLISH
X-WR-CALNAME:Otsego District Public Library
X-ORIGINAL-URL:https://otsegolibrary.org
X-WR-CALDESC:Events for Otsego District Public Library
REFRESH-INTERVAL;VALUE=DURATION:PT1H
X-Robots-Tag:noindex
X-PUBLISHED-TTL:PT1H
BEGIN:VTIMEZONE
TZID:America/Detroit
BEGIN:DAYLIGHT
TZOFFSETFROM:-0500
TZOFFSETTO:-0400
TZNAME:EDT
DTSTART:20230312T070000
END:DAYLIGHT
BEGIN:STANDARD
TZOFFSETFROM:-0400
TZOFFSETTO:-0500
TZNAME:EST
DTSTART:20231105T060000
END:STANDARD
BEGIN:DAYLIGHT
TZOFFSETFROM:-0500
TZOFFSETTO:-0400
TZNAME:EDT
DTSTART:20240310T070000
END:DAYLIGHT
BEGIN:STANDARD
TZOFFSETFROM:-0400
TZOFFSETTO:-0500
TZNAME:EST
DTSTART:20241103T060000
END:STANDARD
BEGIN:DAYLIGHT
TZOFFSETFROM:-0500
TZOFFSETTO:-0400
TZNAME:EDT
DTSTART:20250309T070000
END:DAYLIGHT
BEGIN:STANDARD
TZOFFSETFROM:-0400
TZOFFSETTO:-0500
TZNAME:EST
DTSTART:20251102T060000
END:STANDARD
END:VTIMEZONE
BEGIN:VEVENT
DTSTART;TZID=America/Detroit:20240812T140000
DTEND;TZID=America/Detroit:20240812T140000
DTSTAMP:20260423T012802
CREATED:20231202T040336Z
LAST-MODIFIED:20231203T151200Z
UID:9129-1723471200-1723471200@otsegolibrary.org
SUMMARY:2nd Monday Book Club
DESCRIPTION:Meets on the 2nd Monday at 2 PM \nJanuary 8\nProject Hail Mary by Andy Weir \nFebruary 12\nThe Bookwoman of Troublesome Creek by Kim Michele Richardson \nMarch 11\nThe Great Alone by Kristin Hannah \nApril 8\nMr. Penumbra’s 24 Hour Bookstore by Marianne Cronin \nMay 13\nThe Lilac Girls by Martha Hall Kelly \nJune 10\nBorn A Crime by Trevor Noah \nJuly 8\nThe Nickle Boys by Colson Whitehead \nAugust 12\nRainy Day Friends by Jill Shalvis
URL:https://otsegolibrary.org/event/2nd-monday-book-club-29/
CATEGORIES:Book Club
END:VEVENT
END:VCALENDAR