BEGIN:VCALENDAR
VERSION:2.0
PRODID:-//Otsego District Public Library - ECPv6.15.20//NONSGML v1.0//EN
CALSCALE:GREGORIAN
METHOD:PUBLISH
X-ORIGINAL-URL:https://otsegolibrary.org
X-WR-CALDESC:Events for Otsego District Public Library
REFRESH-INTERVAL;VALUE=DURATION:PT1H
X-Robots-Tag:noindex
X-PUBLISHED-TTL:PT1H
BEGIN:VTIMEZONE
TZID:America/Detroit
BEGIN:DAYLIGHT
TZOFFSETFROM:-0500
TZOFFSETTO:-0400
TZNAME:EDT
DTSTART:20230312T070000
END:DAYLIGHT
BEGIN:STANDARD
TZOFFSETFROM:-0400
TZOFFSETTO:-0500
TZNAME:EST
DTSTART:20231105T060000
END:STANDARD
BEGIN:DAYLIGHT
TZOFFSETFROM:-0500
TZOFFSETTO:-0400
TZNAME:EDT
DTSTART:20240310T070000
END:DAYLIGHT
BEGIN:STANDARD
TZOFFSETFROM:-0400
TZOFFSETTO:-0500
TZNAME:EST
DTSTART:20241103T060000
END:STANDARD
BEGIN:DAYLIGHT
TZOFFSETFROM:-0500
TZOFFSETTO:-0400
TZNAME:EDT
DTSTART:20250309T070000
END:DAYLIGHT
BEGIN:STANDARD
TZOFFSETFROM:-0400
TZOFFSETTO:-0500
TZNAME:EST
DTSTART:20251102T060000
END:STANDARD
END:VTIMEZONE
BEGIN:VEVENT
DTSTART;TZID=America/Detroit:20240801T190000
DTEND;TZID=America/Detroit:20240801T190000
DTSTAMP:20260423T012700
CREATED:20240708T175222Z
LAST-MODIFIED:20240723T163544Z
UID:9990-1722538800-1722538800@otsegolibrary.org
SUMMARY:Main Street Dueling Pianos
DESCRIPTION:THURSDAYS IN AUGUST @ 7 PM \nVisit the library FOUR Thursday evenings in August for an outdoor concert on the lawn. (No performance on Thursday\, August 29.) \nBring a lawn chair or blanket and your family and friends to enjoy some great FREE entertainment. Popcorn provided by the Friends of the Library and bottled water for $1. \nBEST OF THE BEST \nCelebrate a DECADE of brilliant performers at Otsego District Library! This summer we have invited back some of our top favorite bands over the years. A patron vote has invited back Otsego Jazz Ensemble. \nMAIN STREET DUELING PIANOS \nAugust 1 \nJoe Laureano has been performing rock & roll professionally his entire adult life. He is well known all across the country and has an impressive repertoire of 1\,000+ songs\, spanning more than seven decades of music. \nOTSEGO JAZZ ENSEMBLE \nAugust 8 \nThese local musicians: five saxes\, four trombones\, four trumpets\, and a full rhythm section will perform music from the big band era. You don’t want to miss this performance of these top notch musicians. \nOUT OF FAVOR BOYS \nAugust 15 \nOut of Favor Boys is one of Southwest Michigan’s premier contemporary blues bands. They’ve been the house band at two of Kalamazoo’s longest-lasting Thursday Blues Jams at Wonderful’s Funky Basement and The 411 Club. The band has had the opportunity to play with some national blues musicians like Tab Benoit\, Watermelon Slim and Robert Bradley. \nGREAT SCOTT \nAugust 22 \nIf you enjoy the Main Street Dueling Pianos\, come back for Joe Laureano’s full cover band\, “Great Scott.” Great Scott performs the greatest songs from the 1950’s to the new hits of today. Joe will come with a five piece band. This band is guaranteed to have you laughing\, toe-tapping\, and dancing along!
URL:https://otsegolibrary.org/event/main-street-dueling-pianos/
CATEGORIES:Lyrics on the Lawn - Free Concerts
END:VEVENT
END:VCALENDAR