BEGIN:VCALENDAR
VERSION:2.0
PRODID:-//Otsego District Public Library - ECPv6.15.20//NONSGML v1.0//EN
CALSCALE:GREGORIAN
METHOD:PUBLISH
X-WR-CALNAME:Otsego District Public Library
X-ORIGINAL-URL:https://otsegolibrary.org
X-WR-CALDESC:Events for Otsego District Public Library
REFRESH-INTERVAL;VALUE=DURATION:PT1H
X-Robots-Tag:noindex
X-PUBLISHED-TTL:PT1H
BEGIN:VTIMEZONE
TZID:America/Detroit
BEGIN:DAYLIGHT
TZOFFSETFROM:-0500
TZOFFSETTO:-0400
TZNAME:EDT
DTSTART:20230312T070000
END:DAYLIGHT
BEGIN:STANDARD
TZOFFSETFROM:-0400
TZOFFSETTO:-0500
TZNAME:EST
DTSTART:20231105T060000
END:STANDARD
BEGIN:DAYLIGHT
TZOFFSETFROM:-0500
TZOFFSETTO:-0400
TZNAME:EDT
DTSTART:20240310T070000
END:DAYLIGHT
BEGIN:STANDARD
TZOFFSETFROM:-0400
TZOFFSETTO:-0500
TZNAME:EST
DTSTART:20241103T060000
END:STANDARD
BEGIN:DAYLIGHT
TZOFFSETFROM:-0500
TZOFFSETTO:-0400
TZNAME:EDT
DTSTART:20250309T070000
END:DAYLIGHT
BEGIN:STANDARD
TZOFFSETFROM:-0400
TZOFFSETTO:-0500
TZNAME:EST
DTSTART:20251102T060000
END:STANDARD
END:VTIMEZONE
BEGIN:VEVENT
DTSTART;VALUE=DATE:20240615
DTEND;VALUE=DATE:20240728
DTSTAMP:20260423T030326
CREATED:20240603T205246Z
LAST-MODIFIED:20240603T205246Z
UID:9667-1718409600-1722124799@otsegolibrary.org
SUMMARY:Adventure Begins at Your Library - Children's Summer Reading Program
DESCRIPTION:JUNE 15 – JULY 27 \nSign up at the library anytime during the week of June 10 – 15 to get a prize! Sign-ups continue through July 6. Set a reading goal and bring your completed finisher slips to the library for a prize bag; plus pick out your very own book! Finisher bags will be available beginning July 8. \nADVENTUROUS GRAND PRIZES\nSummer Reading Program finishers can enter for a chance to win:\n• 1st Place • $300 Meijer Gift Card + Stuffed Wolf\n• 2nd Place • $200 Meijer Gift Card + Stuffed Fox\n• 3rd Place • $100 Meijer Gift Card + Stuffed Raccoon\nPlus: EIGHT ADVENTUROUS GRAND PRIZE PICKS that you can enter to win! \nCIRQUE AMONGUS KICK-OFF EVENT (All Ages)\nSaturday\, June 15 from 10 AM – NOON • TWO SHOWS: 10 AM & 11 AM\nEnjoy two Cirque Amongus shows that feature a combination of comedy\, circus skills\, and audience participation. Play circus games and activities while enjoying yummy snacks. \nSTROLLER ADVENTURE WALK (0 – 5 Years Old)\nMondays at 10 AM • June 17 – July 22\nJoin your friends while we walk to Memorial Park and play at the park. \nADVENTURONIMO PROGRAMS (Preschool – 5th Grade) \n\nOutdoor Fun with Dogs & Frisbees – Kzooming Disc Dogs Tuesday\, June 18 @ 10 AM\nAdventure of the Lost Treasure – Science HEROES Tuesday\, June 25 @ 10 AM\n“Migration” Movie & Popcorn Tuesday\, July 2 @ 10 AM\nSled Dog Adventures – Crystal Blue Sled Dogs Tuesday\, July 9 @ 10 AM\nBackyard Safari Adventure – Outdoor Discovery Center Tuesday\, July 16 @ 10 AM\nJoel Tacey’s Duct Tape Adventures Tuesday\, July 23 @ 10 AM\n\nADVENTUROUS STORIES & SONGS (0 – 5 Years Old)\nWednesdays at 10 AM • June 19 – July 24\nHear stories\, sing songs\, play games\, and create with your friends. \nLET’S GO ON AN ADVENTURE (Preschool – 5th Grade)\nThursdays at 10 AM • June 20 – July 25 (No meetup July 4)\nGo on weekly adventures in the library – biking\, camping\, hiking\, swimming\, and fishing. \n\nBiking week – June 20 – Bike safety with Otsego Police Officer\, Michael Gudith\nFishing week – July 25 – A visit from the Wolf Creek Fish Hatchery\n\nADVENTURE HIKE\nPick up a map at the library to go on an Adventure Hike through downtown Otsego in the month of July. Find all of the animals\, do the activities\, and bring your completed map back to the library for a special prize! \nSCHOLASTIC BOOK FAIR\nMark your calendars as the Scholastic Book Fair returns June 12 – 29!
URL:https://otsegolibrary.org/event/adventure-begins-at-your-library-childrens-summer-reading-program/
CATEGORIES:Children
END:VEVENT
BEGIN:VEVENT
DTSTART;VALUE=DATE:20240615
DTEND;VALUE=DATE:20240728
DTSTAMP:20260423T030326
CREATED:20240603T205340Z
LAST-MODIFIED:20240610T142531Z
UID:9669-1718409600-1722124799@otsegolibrary.org
SUMMARY:Adventure Begins At Your Library - Teen/Tween Summer Reading Program
DESCRIPTION:JUNE 15 – JULY 27 \nGet ready for some summer fun at the Otsego District Library! Read a minimum of SIX books and complete TWELVE Adventure Pack Reading Challenges (challenges are listed on the teen/tween reading log) to enter the Adventurous Grand Prize drawings. \nFinishers are also eligible for the Adventurous Grand Prize Picks. Once you’ve reached your reading goal\, you can bring in your finisher slips to receive a Finisher Prize Bag and pick out a free book.  Finisher Prize Bags may be picked up at the circulation desk beginning Monday\, July 8. Enter for a chance to win one of the ADVENTUROUS Grand PrizeS and ADVENTUROUS grand prize picks! \nADVENTUROUS GRAND PRIZES \n1st Place $300 Meijer Gift Card + Stuffed Wolf\n2nd Place $200 Meijer Gift Card + Stuffed Fox\n3rd Place $100 Meijer Gift Card + Stuffed Raccoon \nADVENTUROUS GRAND PRIZE PICKS \n\nStanley Tumbler Set + Glow in the Dark Capture the Flag Kit\nSling Folding Camping Chair + Metal Detector\nCamping Hammock + Inflatable 2 Person Raft\nPacific Pass 6 Person Tent + Solar Charging Bank\n\nPlease note that grand prize winners are not eligible for grand prize picks. \nWEEKLY TRIVIA + PRIZES\nA new trivia question will be posted each week on the wall in the teen room. Prizes will\nbe available to the first few CORRECT answers submitted. You can enter you name into\nthe weekly drawings once per day. Earn extra slips by attending library events. \nTRAILBLAZING TUESDAYS \n\nParacord Bracelets -Tuesday\, June 18 @ 2 PM\nOrigami Birds – Tuesday\, June 25 @ 2 PM\n“UP” Movie & Popcorn – Tuesday\, July 2\nSunset Dot Paintings – Tuesday\, July 9 @ 2 PM\nSilicone Keychains – Tuesday\, July 16 @ 2 PM\nFelt Lumberjack Art – Tuesday\, July 23 @ 2 PM\n\nWONDERLUST WEDNESDAYS \nAdventurer’s Writing Club\nWednesdays @ 2 PM\nJune 19 & July 3\nExplore different writing styles and share your latest writings with other young authors. \nOutdoor Book Club\nWednesdays @ 2 PM\nJune 26 & July 10\nShare what you are reading or your favorite book with other teens and tweens. \nTHRILLING THURSDAYS \n\nOutdoor Fun with Dogs & Frisbees Kzooming Disc Dogs – Thursday\, June 20 @ 2 PM\nWoodland Survival – Thursday\, June 27 @ 2 PM\nIndependence Day – NO EVENT – Thursday\, July 4\nNature Bookmark Prints with Chula Vista Garden Club – Thursday\, July 11 @ 2 PM\nTeam Adventure! – Thursday\, July 18 @ 2 PM\nIndoor Campout Party – Thursday\, July 25 @ 2 PM
URL:https://otsegolibrary.org/event/adventure-begins-at-your-library-teen-tween-summer-reading-program/
CATEGORIES:Teen/Tween
END:VEVENT
BEGIN:VEVENT
DTSTART;VALUE=DATE:20240701
DTEND;VALUE=DATE:20240801
DTSTAMP:20260423T030326
CREATED:20240610T142148Z
LAST-MODIFIED:20240610T142148Z
UID:9736-1719792000-1722470399@otsegolibrary.org
SUMMARY:Adventure Hike
DESCRIPTION:July 1 – 31 \nHike downtown Otsego for a great adventure! We’ve partnered with downtown businesses and community centers to give you an interactive adventure. During July\, find pictures of animals hiding throughout downtown. \nPick up a map at the library for your Adventure Hike. Find all of the animals and perform each listed activity. Then return your completed sheet to the library for a special prize!
URL:https://otsegolibrary.org/event/adventure-hike/
CATEGORIES:Family
END:VEVENT
END:VCALENDAR