BEGIN:VCALENDAR
VERSION:2.0
PRODID:-//Otsego District Public Library - ECPv6.15.20//NONSGML v1.0//EN
CALSCALE:GREGORIAN
METHOD:PUBLISH
X-WR-CALNAME:Otsego District Public Library
X-ORIGINAL-URL:https://otsegolibrary.org
X-WR-CALDESC:Events for Otsego District Public Library
REFRESH-INTERVAL;VALUE=DURATION:PT1H
X-Robots-Tag:noindex
X-PUBLISHED-TTL:PT1H
BEGIN:VTIMEZONE
TZID:America/Detroit
BEGIN:DAYLIGHT
TZOFFSETFROM:-0500
TZOFFSETTO:-0400
TZNAME:EDT
DTSTART:20230312T070000
END:DAYLIGHT
BEGIN:STANDARD
TZOFFSETFROM:-0400
TZOFFSETTO:-0500
TZNAME:EST
DTSTART:20231105T060000
END:STANDARD
BEGIN:DAYLIGHT
TZOFFSETFROM:-0500
TZOFFSETTO:-0400
TZNAME:EDT
DTSTART:20240310T070000
END:DAYLIGHT
BEGIN:STANDARD
TZOFFSETFROM:-0400
TZOFFSETTO:-0500
TZNAME:EST
DTSTART:20241103T060000
END:STANDARD
BEGIN:DAYLIGHT
TZOFFSETFROM:-0500
TZOFFSETTO:-0400
TZNAME:EDT
DTSTART:20250309T070000
END:DAYLIGHT
BEGIN:STANDARD
TZOFFSETFROM:-0400
TZOFFSETTO:-0500
TZNAME:EST
DTSTART:20251102T060000
END:STANDARD
END:VTIMEZONE
BEGIN:VEVENT
DTSTART;VALUE=DATE:20240612
DTEND;VALUE=DATE:20240630
DTSTAMP:20260423T050826
CREATED:20240610T142251Z
LAST-MODIFIED:20240610T142251Z
UID:9738-1718150400-1719705599@otsegolibrary.org
SUMMARY:SCHOLASTIC BOOK FAIR
DESCRIPTION:JUNE 12 – JUNE 29\nDURING OPEN LIBRARY HOURS \nLet your children and grandchildren select some fun summer reading materials to celebrate their accomplishments in school this past year! The library earns 50% of the profits to use toward FREE books for the library’s collection.
URL:https://otsegolibrary.org/event/scholastic-book-fair-3/
CATEGORIES:Scholastic
END:VEVENT
BEGIN:VEVENT
DTSTART;TZID=America/Detroit:20240612T180000
DTEND;TZID=America/Detroit:20240612T180000
DTSTAMP:20260423T050826
CREATED:20231203T151704Z
LAST-MODIFIED:20231203T151704Z
UID:9150-1718215200-1718215200@otsegolibrary.org
SUMMARY:Non-Fiction Book Club
DESCRIPTION:Meets on the 2nd Wednesday at 6 PM \nJanuary 10\nRubicon by Tom Holland \nFebruary 14\nThe Making of the Atomic Bomb by Richard Rhodes \nMarch 11\nBecoming Charlemagne by Jeff Sypeck \nApril 10\nThomas Jefferson: The Art of Power by John Meacham \nMay 8\nThe Rise & Reign of the Mammals by Steve Brusatte \nJune 12\nThe Last Castle by Denise Kiernan \nJuly 10\nThe Year of Lear: Shakespeare in 1606 by James Shapiro \nAugust 14\nBlue Highways: A Journey into America by William Least Heat-Moon
URL:https://otsegolibrary.org/event/non-fiction-book-club-26/
CATEGORIES:Book Club
END:VEVENT
END:VCALENDAR