BEGIN:VCALENDAR
VERSION:2.0
PRODID:-//Otsego District Public Library - ECPv6.15.20//NONSGML v1.0//EN
CALSCALE:GREGORIAN
METHOD:PUBLISH
X-WR-CALNAME:Otsego District Public Library
X-ORIGINAL-URL:https://otsegolibrary.org
X-WR-CALDESC:Events for Otsego District Public Library
REFRESH-INTERVAL;VALUE=DURATION:PT1H
X-Robots-Tag:noindex
X-PUBLISHED-TTL:PT1H
BEGIN:VTIMEZONE
TZID:America/Detroit
BEGIN:DAYLIGHT
TZOFFSETFROM:-0500
TZOFFSETTO:-0400
TZNAME:EDT
DTSTART:20230312T070000
END:DAYLIGHT
BEGIN:STANDARD
TZOFFSETFROM:-0400
TZOFFSETTO:-0500
TZNAME:EST
DTSTART:20231105T060000
END:STANDARD
BEGIN:DAYLIGHT
TZOFFSETFROM:-0500
TZOFFSETTO:-0400
TZNAME:EDT
DTSTART:20240310T070000
END:DAYLIGHT
BEGIN:STANDARD
TZOFFSETFROM:-0400
TZOFFSETTO:-0500
TZNAME:EST
DTSTART:20241103T060000
END:STANDARD
BEGIN:DAYLIGHT
TZOFFSETFROM:-0500
TZOFFSETTO:-0400
TZNAME:EDT
DTSTART:20250309T070000
END:DAYLIGHT
BEGIN:STANDARD
TZOFFSETFROM:-0400
TZOFFSETTO:-0500
TZNAME:EST
DTSTART:20251102T060000
END:STANDARD
END:VTIMEZONE
BEGIN:VEVENT
DTSTART;TZID=America/Detroit:20240522T130000
DTEND;TZID=America/Detroit:20240522T130000
DTSTAMP:20260423T065423
CREATED:20231202T034537Z
LAST-MODIFIED:20231202T034537Z
UID:9119-1716382800-1716382800@otsegolibrary.org
SUMMARY:Crafting Corner
DESCRIPTION:January – May\n4th Wednesday at 1 PM \nBring your knitting\, crochet\, coloring\, needlepoint\, cross-stitch\, or other personal crafting projects from home. \nEnjoy a cup of coffee while you are working and sit by the fireplace crafting with friends.
URL:https://otsegolibrary.org/event/crafting-corner-18/
CATEGORIES:Adult
END:VEVENT
END:VCALENDAR