BEGIN:VCALENDAR
VERSION:2.0
PRODID:-//Otsego District Public Library - ECPv6.15.20//NONSGML v1.0//EN
CALSCALE:GREGORIAN
METHOD:PUBLISH
X-ORIGINAL-URL:https://otsegolibrary.org
X-WR-CALDESC:Events for Otsego District Public Library
REFRESH-INTERVAL;VALUE=DURATION:PT1H
X-Robots-Tag:noindex
X-PUBLISHED-TTL:PT1H
BEGIN:VTIMEZONE
TZID:America/Detroit
BEGIN:DAYLIGHT
TZOFFSETFROM:-0500
TZOFFSETTO:-0400
TZNAME:EDT
DTSTART:20230312T070000
END:DAYLIGHT
BEGIN:STANDARD
TZOFFSETFROM:-0400
TZOFFSETTO:-0500
TZNAME:EST
DTSTART:20231105T060000
END:STANDARD
BEGIN:DAYLIGHT
TZOFFSETFROM:-0500
TZOFFSETTO:-0400
TZNAME:EDT
DTSTART:20240310T070000
END:DAYLIGHT
BEGIN:STANDARD
TZOFFSETFROM:-0400
TZOFFSETTO:-0500
TZNAME:EST
DTSTART:20241103T060000
END:STANDARD
BEGIN:DAYLIGHT
TZOFFSETFROM:-0500
TZOFFSETTO:-0400
TZNAME:EDT
DTSTART:20250309T070000
END:DAYLIGHT
BEGIN:STANDARD
TZOFFSETFROM:-0400
TZOFFSETTO:-0500
TZNAME:EST
DTSTART:20251102T060000
END:STANDARD
END:VTIMEZONE
BEGIN:VEVENT
DTSTART;VALUE=DATE:20240426
DTEND;VALUE=DATE:20240428
DTSTAMP:20260423T113711
CREATED:20231203T192822Z
LAST-MODIFIED:20231203T192903Z
UID:9303-1714089600-1714262399@otsegolibrary.org
SUMMARY:BIG Spring Book Sale
DESCRIPTION:The Friends of the Library are hosting a TWO DAY BIG Spring Book Sale! \n\n\nWho loves a book bargain?! We sure do! Books will be on sale at discounted rates. Shelves inside the bookstore will be restocked with new titles after each sale. \nDates:\nFriday\, April 26 – – – – – 9 AM – 6 PM\nSaturday\, April 27 – – – – 9 AM – 2 PM
URL:https://otsegolibrary.org/event/big-spring-book-sale/
CATEGORIES:Friends of the Library
END:VEVENT
END:VCALENDAR